BEGIN:VCALENDAR
VERSION:2.0
PRODID:-//Scuderia Ferrari Club Romandie - ECPv6.15.20//NONSGML v1.0//EN
CALSCALE:GREGORIAN
METHOD:PUBLISH
X-ORIGINAL-URL:https://www.sfc-romandie.ch
X-WR-CALDESC:Évènements pour Scuderia Ferrari Club Romandie
REFRESH-INTERVAL;VALUE=DURATION:PT1H
X-Robots-Tag:noindex
X-PUBLISHED-TTL:PT1H
BEGIN:VTIMEZONE
TZID:Europe/Zurich
BEGIN:DAYLIGHT
TZOFFSETFROM:+0100
TZOFFSETTO:+0200
TZNAME:CEST
DTSTART:20220327T010000
END:DAYLIGHT
BEGIN:STANDARD
TZOFFSETFROM:+0200
TZOFFSETTO:+0100
TZNAME:CET
DTSTART:20221030T010000
END:STANDARD
BEGIN:DAYLIGHT
TZOFFSETFROM:+0100
TZOFFSETTO:+0200
TZNAME:CEST
DTSTART:20230326T010000
END:DAYLIGHT
BEGIN:STANDARD
TZOFFSETFROM:+0200
TZOFFSETTO:+0100
TZNAME:CET
DTSTART:20231029T010000
END:STANDARD
BEGIN:DAYLIGHT
TZOFFSETFROM:+0100
TZOFFSETTO:+0200
TZNAME:CEST
DTSTART:20240331T010000
END:DAYLIGHT
BEGIN:STANDARD
TZOFFSETFROM:+0200
TZOFFSETTO:+0100
TZNAME:CET
DTSTART:20241027T010000
END:STANDARD
END:VTIMEZONE
BEGIN:VEVENT
DTSTART;VALUE=DATE:20230519
DTEND;VALUE=DATE:20230522
DTSTAMP:20260424T171103
CREATED:20230212T205133Z
LAST-MODIFIED:20230222T190145Z
UID:7838-1684454400-1684713599@www.sfc-romandie.ch
SUMMARY:Grand Prix F1 d’Emilie Romagne | Imola
DESCRIPTION:Programme \nVendredi 19 mai \nVoyage Suisse – Maranello\nArrivée à l’hôtel\nRepas \nSamedi 20 mai \nPetit déjeuner\nJournée à Imola\nRepas\nRepas \nDimanche 21 mai \nPetit déjeuner\nJournée à Imola\nVoyage Imola – Suisse\nAvec arrêt repas du soir au KM 90 à Fidenza \nCompris dans le prix: \n\nVoyage en car\n2 nuits d’hôtel 4 étoiles en chambres doubles ou à 2 lits et\npetit déjeuner buffet\n3 repas du soir (boissons incluses)\nBillet d’entrée à Imola pour 2 jours\nToutes les activités et visites indiquées ci‐dessus\n\nImportant: \nPour d’autres typologies d’hébergement ou modification des prestations et enfants de moins de 11 ans veuillez demander les conditions (info@sfc-romandie.ch ou 079/334 31 20) \nNota: Le prix est calculé sur une base de plus de 35 participants. Le prix peut varier si le nombre de participants est supérieur ou inférieur à la calculation.  \n \n\nPossibilité de choisir entre chambre avec grand lit ou lits séparés.\nPossibilité d’avoir une chambre à 1 lit (supplément de Fr. 30.— par nuit)\nLes repas s’entendent boissons (vin de la région\, eau\, café) comprises.\nAucun remboursement ou ristourne ne pourra être prétendu par les participants.\nLe formulaire annexé est à considérer comme réservation.\nSeul le paiement du voyage garantit une place pour ce déplacement.\nCe programme est donné à titre informatif et peut subir des modifications suite à problèmes indépendants de notre volonté (lieux visités ou horaires)\nSe munir d’un document valable pour l’Italie (carte d’identité\, passeport\, etc).\nLes participants seront avisés personnellement et en temps voulu des détails du voyage (horaires\, etc).\n\nLe Scuderia Ferrari Club Romandie n’assume aucune responsabilité en cas de dommages ou accidents.
URL:https://www.sfc-romandie.ch/event/grand-prix-f1-demilie-romagne-imola/
LOCATION:Imola\, Italie
CATEGORIES:Tout le Club
ATTACH;FMTTYPE=image/jpeg:https://www.sfc-romandie.ch/wp-content/uploads/2023/02/IMOLA.jpg
ORGANIZER;CN="MGMT SFC":MAILTO:info@sfc-romandie.ch
END:VEVENT
END:VCALENDAR