BEGIN:VCALENDAR
VERSION:2.0
PRODID:-//Scuderia Ferrari Club Romandie - ECPv6.15.20//NONSGML v1.0//EN
CALSCALE:GREGORIAN
METHOD:PUBLISH
X-WR-CALNAME:Scuderia Ferrari Club Romandie
X-ORIGINAL-URL:https://www.sfc-romandie.ch
X-WR-CALDESC:Évènements pour Scuderia Ferrari Club Romandie
REFRESH-INTERVAL;VALUE=DURATION:PT1H
X-Robots-Tag:noindex
X-PUBLISHED-TTL:PT1H
BEGIN:VTIMEZONE
TZID:UTC
BEGIN:STANDARD
TZOFFSETFROM:+0000
TZOFFSETTO:+0000
TZNAME:UTC
DTSTART:20250101T000000
END:STANDARD
END:VTIMEZONE
BEGIN:VEVENT
DTSTART;TZID=UTC:20260410T150000
DTEND;TZID=UTC:20260410T220000
DTSTAMP:20260421T201823
CREATED:20260421T064246Z
LAST-MODIFIED:20260421T064645Z
UID:8074-1775833200-1775858400@www.sfc-romandie.ch
SUMMARY:Assemblée Générale 2026 | Bulle
DESCRIPTION:
URL:https://www.sfc-romandie.ch/event/assemblee-generale-2026-bulle/
LOCATION:La Gruyère\, Suisse
CATEGORIES:Tout le Club
ORGANIZER;CN="MGMT SFC":MAILTO:info@sfc-romandie.ch
END:VEVENT
END:VCALENDAR