BEGIN:VCALENDAR
VERSION:2.0
PRODID:-//Scuderia Ferrari Club Romandie - ECPv6.15.20//NONSGML v1.0//EN
CALSCALE:GREGORIAN
METHOD:PUBLISH
X-ORIGINAL-URL:https://www.sfc-romandie.ch
X-WR-CALDESC:Évènements pour Scuderia Ferrari Club Romandie
REFRESH-INTERVAL;VALUE=DURATION:PT1H
X-Robots-Tag:noindex
X-PUBLISHED-TTL:PT1H
BEGIN:VTIMEZONE
TZID:Europe/Zurich
BEGIN:DAYLIGHT
TZOFFSETFROM:+0100
TZOFFSETTO:+0200
TZNAME:CEST
DTSTART:20230326T010000
END:DAYLIGHT
BEGIN:STANDARD
TZOFFSETFROM:+0200
TZOFFSETTO:+0100
TZNAME:CET
DTSTART:20231029T010000
END:STANDARD
BEGIN:DAYLIGHT
TZOFFSETFROM:+0100
TZOFFSETTO:+0200
TZNAME:CEST
DTSTART:20240331T010000
END:DAYLIGHT
BEGIN:STANDARD
TZOFFSETFROM:+0200
TZOFFSETTO:+0100
TZNAME:CET
DTSTART:20241027T010000
END:STANDARD
BEGIN:DAYLIGHT
TZOFFSETFROM:+0100
TZOFFSETTO:+0200
TZNAME:CEST
DTSTART:20250330T010000
END:DAYLIGHT
BEGIN:STANDARD
TZOFFSETFROM:+0200
TZOFFSETTO:+0100
TZNAME:CET
DTSTART:20251026T010000
END:STANDARD
END:VTIMEZONE
BEGIN:VEVENT
DTSTART;TZID=Europe/Zurich:20240906T080000
DTEND;TZID=Europe/Zurich:20240908T170000
DTSTAMP:20260423T125658
CREATED:20240629T123755Z
LAST-MODIFIED:20240629T125013Z
UID:7968-1725609600-1725814800@www.sfc-romandie.ch
SUMMARY:Ferrari Challenge | Nürburgring
DESCRIPTION:Les détails suivront
URL:https://www.sfc-romandie.ch/event/ferrari-challenge-nurburgring/
ATTACH;FMTTYPE=image/jpeg:https://www.sfc-romandie.ch/wp-content/uploads/2024/06/Nurburgring21_SFC.jpg
END:VEVENT
END:VCALENDAR